BEGIN:VCALENDAR
VERSION:2.0
PRODID:-//wp-events-plugin.com//7.2.3.1//EN
BEGIN:VEVENT
UID:1652@boarisch-tanzen.de
DTSTART:20190402T180000Z
DTEND:20190402T203000Z
DTSTAMP:20190331T175849Z
URL:https://www.boarisch-tanzen.de/Veranstaltungen/volkstanzuebungsabend-i
 n-mue-westkreuz-10/
SUMMARY:Volkstanzübungsabend in Mü-Westkreuz
DESCRIPTION:Volkstanzübungsabend im Bürgersaal Westkreuz\nBestens erreich
 bar mit MVV (S6 &amp\; S8 Westkreuz\, Ausgang stadtauswärts)\nVersanstalt
 er: Volkstanzkreis Westkreuz (vormals Tanzmühle München)\nNicht für Anf
 änger geeignet\, bitte paarweise kommen.\nKontakt: willi.stappert@gmail.c
 om oder 0151-53739633\n\n\nTanzleiter an diesem Abend : Peter Meyer und Wi
 lli Stappert\n\n\nTanzrunde 1 mit Peter Meyer\nTriowalzer\n4-Paar-Tanz: Ru
 ssenpolka\nTänze von Ingeborg Heinrichsen:\nIsarwinkler Landler\, Gerolzr
 ieder Auenwalzer\, Oberbayerische (Kirchdorfer) Mazurka\nSonstige Tänze: 
 Massiner\, Wenzlpolka\, Paschater Flugsumi\n\nTanzrunde 2 mit Willi Stappe
 rt\nZwiefache\n2-Paar-Tanz:  Gemischtes Doppel\n4-Paar-Tanz: Maike\nLandle
 r: Ottenschlager\, Alter Heisa\nSonstige Tänze: Grafensteiner Polka\, Kre
 uzpolka\nWechseltänze: Piesendorfer Duschpolka\, Schwarzerdner\n\nTanzrun
 de 3 mit Willi Stappert\nZwiefache\n2-Paar-Tanz: De Kolom\n4-Paar-Tanz: M
 ühlenpolka\nLandler: Ratzinger Landler\, Zillertaler Landler\nSonstige T
 änze: Botsavalser\nWechseltänze: Lauterbacher\, Sommermorgenwalzer\n\nÄ
 nderungen vorbehalten\n\nRundbrief des Tanzkreises:\nWilli Stappert hat ei
 nen E-Mail-Verteiler eingerichtet\, der über Aktivitäten des Volkstanzkr
 eises Westkreuz und darüber hinaus informiert. Wer interessiert ist\, bit
 te eine Mail an willi.stappert@gmail.com senden.\n\n&nbsp\;\n\n&nbsp\;\n\n
  \n\n&nbsp\;\n\n&nbsp\;
CATEGORIES:Übungsabend
LOCATION:Bürgersaal Westkreuz\,  Friedrichshafener Straße 17\, München\,
  Bayern\, 81243\, Oberbayern\, Deutschland
GEO:48.148576;11.442859
X-APPLE-STRUCTURED-LOCATION;VALUE=URI;X-ADDRESS= Friedrichshafener Straße 
 17\, München\, Bayern\, 81243\, Oberbayern\, Deutschland;X-APPLE-RADIUS=1
 00;X-TITLE=Bürgersaal Westkreuz:geo:48.148576,11.442859
END:VEVENT
END:VCALENDAR