BEGIN:VCALENDAR
VERSION:2.0
PRODID:-//wp-events-plugin.com//7.2.3.1//EN
BEGIN:VEVENT
UID:5418@boarisch-tanzen.de
DTSTART:20260621T170000Z
DTEND:20260621T210000Z
DTSTAMP:20260113T155119Z
URL:https://www.boarisch-tanzen.de/Veranstaltungen/volkstanzuebungsabend-5
 4/
SUMMARY:Volkstanzübungsabend
DESCRIPTION:https://www.vtk-pullach.de\nSaalbenutzung: 5 €\;\nTanzleitung
 : Karolina und Johannes Schuster\n\nVeranstalter: Volkstanzkreis Pullach
CATEGORIES:Übungsabend
LOCATION:Hl. Geist Pullach - Pfarrsaal\, Parkstr. 11a\, Pullach\, Bayern\, 
 81478\, Oberbayern\, Deutschland
GEO:48.05697869999999;11.517191700000012
X-APPLE-STRUCTURED-LOCATION;VALUE=URI;X-ADDRESS=Parkstr. 11a\, Pullach\, Ba
 yern\, 81478\, Oberbayern\, Deutschland;X-APPLE-RADIUS=100;X-TITLE=Hl. Gei
 st Pullach - Pfarrsaal:geo:48.05697869999999,11.517191700000012
END:VEVENT
END:VCALENDAR