BEGIN:VCALENDAR
VERSION:2.0
PRODID:-//wp-events-plugin.com//7.2.3.1//EN
BEGIN:VEVENT
UID:5427@boarisch-tanzen.de
DTSTART:20260506T184500Z
DTEND:20260506T210000Z
DTSTAMP:20260115T064158Z
URL:https://www.boarisch-tanzen.de/Veranstaltungen/volkstanz-uebungsabend-
 anfaenger-9/
SUMMARY:Volkstanz-Übungsabend (Anfänger)
DESCRIPTION:Übungsabende jeden Mittwoch\, außer Schulferien\, abwechselnd
  für Anfänger und Fortgeschrittene\n\nVeranstalter: Isartaler Volkstanzk
 reis\n\n&nbsp\;
CATEGORIES:Übungsabend
LOCATION:Loisachhalle\, Hammerschmiedweg 6\, Wolfratshausen\, Bayern\, 8251
 5\, Oberbayern\, Deutschland
GEO:47.913948;11.421561
X-APPLE-STRUCTURED-LOCATION;VALUE=URI;X-ADDRESS=Hammerschmiedweg 6\, Wolfra
 tshausen\, Bayern\, 82515\, Oberbayern\, Deutschland;X-APPLE-RADIUS=100;X-
 TITLE=Loisachhalle:geo:47.913948,11.421561
END:VEVENT
END:VCALENDAR