BEGIN:VCALENDAR
VERSION:2.0
PRODID:-//wp-events-plugin.com//7.2.3.1//EN
BEGIN:VEVENT
UID:1900@boarisch-tanzen.de
DTSTART:20190831T190000Z
DTEND:20190831T190000Z
DTSTAMP:20190529T164012Z
URL:https://www.boarisch-tanzen.de/Veranstaltungen/volkstanz-344/
SUMMARY:Volkstanz
DESCRIPTION:
CATEGORIES:Volkstanz
LOCATION:Gasthaus Binnerschreiner\, Kaufnitzweg 2\, Tännesberg\, Bayern\, 
 92723\, Oberpfalz\, Deutschland
GEO:49.53033;12.324589999999943
X-APPLE-STRUCTURED-LOCATION;VALUE=URI;X-ADDRESS=Kaufnitzweg 2\, Tännesberg
 \, Bayern\, 92723\, Oberpfalz\, Deutschland;X-APPLE-RADIUS=100;X-TITLE=Gas
 thaus Binnerschreiner:geo:49.53033,12.324589999999943
END:VEVENT
END:VCALENDAR