BEGIN:VCALENDAR
VERSION:2.0
PRODID:-//wp-events-plugin.com//7.2.3.1//EN
BEGIN:VEVENT
UID:1036@boarisch-tanzen.de
DTSTART:20180922T190000Z
DTEND:20180922T190000Z
DTSTAMP:20180826T112029Z
URL:https://www.boarisch-tanzen.de/Veranstaltungen/volkstanz-209/
SUMMARY:Volkstanz
DESCRIPTION:Veranstalter: Gchtaler\n\n&nbsp\;
CATEGORIES:Volkstanz
LOCATION:Gasthof Sempt - Wang\, Semptstr. 15\, Wang\, Bayern\, 85368\, Nied
 erbayern\, Deutschland
GEO:48.484146;12.006346
X-APPLE-STRUCTURED-LOCATION;VALUE=URI;X-ADDRESS=Semptstr. 15\, Wang\, Bayer
 n\, 85368\, Niederbayern\, Deutschland;X-APPLE-RADIUS=100;X-TITLE=Gasthof 
 Sempt - Wang:geo:48.484146,12.006346
END:VEVENT
END:VCALENDAR