BEGIN:VCALENDAR
VERSION:2.0
PRODID:-//wp-events-plugin.com//7.2.3.1//EN
BEGIN:VEVENT
UID:340@boarisch-tanzen.de
DTSTART:20180908T190000Z
DTEND:20180908T190000Z
DTSTAMP:20180730T083945Z
URL:https://www.boarisch-tanzen.de/Veranstaltungen/volkstanz-103/
SUMMARY:Herbstvolkstanz
DESCRIPTION:\n\nVeranstalter: Oberpfälzer Volksmusikfreunde e.v.
CATEGORIES:Volkstanz
LOCATION:Neue Stadthalle Cham\, Further Str.11\, Cham\, Bayern\, 93413\, Ob
 erpfalz\, Deutschland
GEO:49.22264759999999;12.668674199999941
X-APPLE-STRUCTURED-LOCATION;VALUE=URI;X-ADDRESS=Further Str.11\, Cham\, Bay
 ern\, 93413\, Oberpfalz\, Deutschland;X-APPLE-RADIUS=100;X-TITLE=Neue Stad
 thalle Cham:geo:49.22264759999999,12.668674199999941
END:VEVENT
END:VCALENDAR