BEGIN:VCALENDAR
VERSION:2.0
PRODID:-//wp-events-plugin.com//7.2.3.1//EN
BEGIN:VEVENT
UID:5558@boarisch-tanzen.de
DTSTART:20260630T183000Z
DTEND:20260630T213000Z
DTSTAMP:20260301T073407Z
URL:https://www.boarisch-tanzen.de/Veranstaltungen/uebungsabend-152/
SUMMARY:Übungsabend
DESCRIPTION:mit Tanzmeisterin Vroni Schweikl und dem Musiker Atul Barth\n\n
 Veranstalter: GTEV Aubergler Poing e. V.\n\nÜbungsabend zur Vorbereitung 
 auf das Friah-Tanzl am 12.07.26 im Festzelt am Volksfest Poing
CATEGORIES:Übungsabend
LOCATION:Pfarrheim St. Michael\, Schulstraße 29 c\, Poing\, Bayern\, 85586
 \, Landkreis Ebersberg\, Deutschland
GEO:48.168921;11.816162
X-APPLE-STRUCTURED-LOCATION;VALUE=URI;X-ADDRESS=Schulstraße 29 c\, Poing\,
  Bayern\, 85586\, Landkreis Ebersberg\, Deutschland;X-APPLE-RADIUS=100;X-T
 ITLE=Pfarrheim St. Michael:geo:48.168921,11.816162
END:VEVENT
END:VCALENDAR