BEGIN:VCALENDAR
VERSION:2.0
PRODID:-//wp-events-plugin.com//7.2.3.1//EN
BEGIN:VEVENT
UID:5470@boarisch-tanzen.de
DTSTART:20261215T190000Z
DTEND:20261215T190000Z
DTSTAMP:20260117T161047Z
URL:https://www.boarisch-tanzen.de/Veranstaltungen/uebungsabend-151/
SUMMARY:Übungsabend
DESCRIPTION:Veranstalter: Heimatverein Immenstadt
CATEGORIES:Übungsabend
LOCATION:Cafeteria Spital Immenstadt\, Kemptener Straße 13\, Immenstadt im
  Allgäu\, Bayern\, 87509\, Landkreis Oberallgäu\, Deutschland
GEO:47.561391;10.22168
X-APPLE-STRUCTURED-LOCATION;VALUE=URI;X-ADDRESS=Kemptener Straße 13\, Imme
 nstadt im Allgäu\, Bayern\, 87509\, Landkreis Oberallgäu\, Deutschland;X
 -APPLE-RADIUS=100;X-TITLE=Cafeteria Spital Immenstadt:geo:47.561391,10.221
 68
END:VEVENT
END:VCALENDAR