BEGIN:VCALENDAR
VERSION:2.0
PRODID:-//wp-events-plugin.com//7.2.3.1//EN
BEGIN:VEVENT
UID:5557@boarisch-tanzen.de
DTSTART:20260712T080000Z
DTEND:20260712T120000Z
DTSTAMP:20260228T080702Z
URL:https://www.boarisch-tanzen.de/Veranstaltungen/friah-tanzl-2/
SUMMARY:Friah-Tanzl
DESCRIPTION:Tanzmeisterin: Vroni Schweikl\nEintritt frei\n\nVeranstalter GT
 EV Aubergler Poing e.V.\n\nZur Vorbereitung wird am 30.06.26 auch ein Übu
 ngsabend angeboten
CATEGORIES:Volkstanz (für Neueinsteiger geeignet)
LOCATION:Festzelt am Volksfest Poing\, Am Hanselbrunn\, Poing\, Bayern\, 85
 586\, Landkreis Ebersberg\, Deutschland
GEO:48.17404;11.811539
X-APPLE-STRUCTURED-LOCATION;VALUE=URI;X-ADDRESS=Am Hanselbrunn\, Poing\, Ba
 yern\, 85586\, Landkreis Ebersberg\, Deutschland;X-APPLE-RADIUS=100;X-TITL
 E=Festzelt am Volksfest Poing:geo:48.17404,11.811539
END:VEVENT
END:VCALENDAR