BEGIN:VCALENDAR
VERSION:2.0
PRODID:-//wp-events-plugin.com//7.2.3.1//EN
BEGIN:VEVENT
UID:5303@boarisch-tanzen.de
DTSTART:20260910T183000Z
DTEND:20260910T203000Z
DTSTAMP:20251128T113207Z
URL:https://www.boarisch-tanzen.de/Veranstaltungen/alpenlaendischer-paarta
 nz-17/
SUMMARY:Alpenländischer Paartanz
DESCRIPTION:Alpenländischer Paartanz\n3€\n\nVeranstalter: Isartaler Volk
 stanzkreis\n\n&nbsp\;
CATEGORIES:Übungsabend
LOCATION:Pfarrsaal St. Benedikt\, Schrenkstr. 2a\, München\, Bayern\, 8033
 9\, Oberbayern\, Deutschland
GEO:48.139071;11.54146
X-APPLE-STRUCTURED-LOCATION;VALUE=URI;X-ADDRESS=Schrenkstr. 2a\, München\,
  Bayern\, 80339\, Oberbayern\, Deutschland;X-APPLE-RADIUS=100;X-TITLE=Pfar
 rsaal St. Benedikt:geo:48.139071,11.54146
END:VEVENT
END:VCALENDAR