BEGIN:VCALENDAR
VERSION:2.0
PRODID:-//wp-events-plugin.com//7.2.3.1//EN
BEGIN:VEVENT
UID:3127@boarisch-tanzen.de
DTSTART:20230414T190000Z
DTEND:20230414T190000Z
DTSTAMP:20230402T174239Z
URL:https://www.boarisch-tanzen.de/Veranstaltungen/abschlussabend-des-volk
 stanzkurses-fuer-anfaenger/
SUMMARY:Abschlussabend des Volkstanzkurses für Anfänger
DESCRIPTION:Kontakt: Bernhard Meyer 09491/2827\n\nVeranstalter: Volkstanzfr
 eunde Jachenhausen
CATEGORIES:Volkstanz (für Neueinsteiger geeignet)
LOCATION:Gasthaus Forster\, Untere Dorfstraße 11\, Riedenburg-Jachenhausen
 \, Bayern\, 93339\, Landkreis Kelheim\, Deutschland
GEO:48.993141;11.703466
X-APPLE-STRUCTURED-LOCATION;VALUE=URI;X-ADDRESS=Untere Dorfstraße 11\, Rie
 denburg-Jachenhausen\, Bayern\, 93339\, Landkreis Kelheim\, Deutschland;X-
 APPLE-RADIUS=100;X-TITLE=Gasthaus Forster:geo:48.993141,11.703466
END:VEVENT
END:VCALENDAR